BEGIN:VCALENDAR
VERSION:2.0
PRODID:icalendar-ruby
CALSCALE:GREGORIAN
METHOD:PUBLISH
BEGIN:VEVENT
DTSTAMP:20260421T192237Z
UID:67-1090012@peakworship.com
DTSTART:20260604T223000Z
DTEND:20260604T233000Z
CLASS:PUBLIC
CREATED:20260421T125713
DESCRIPTION:Ladies' Prayer Night is calling! Come in your comfy clothes\, b
 ring your prayer requests\, and let's spend the evening lifting each other
  up in faith and friendship.
LAST-MODIFIED:20260421T125713
LOCATION:315 Granada Street\, Lakeland FL 33805
SUMMARY:PEAK Ladies Prayer
URL;VALUE=URI:https://www.peakworship.com/events/peak-ladies-prayer/2026-06
 -04
ATTACH;FILENAME=The-View-Logo.jpg;FMTTYPE=image/jpeg:https://dq5pwpg1q8ru0.
 cloudfront.net/2026/04/20/14/33/34/6cf7e6e8-9ac7-470a-a37d-b42150feada1/Th
 e-View-Logo.jpg
END:VEVENT
END:VCALENDAR
